BEGIN:VCALENDAR
VERSION:2.0
PRODID:-//Maggie L. Walker Governor&#039;s School - ECPv6.15.17.1//NONSGML v1.0//EN
CALSCALE:GREGORIAN
METHOD:PUBLISH
X-WR-CALNAME:Maggie L. Walker Governor&#039;s School
X-ORIGINAL-URL:https://mlwgs.com
X-WR-CALDESC:Events for Maggie L. Walker Governor&#039;s School
REFRESH-INTERVAL;VALUE=DURATION:PT1H
X-Robots-Tag:noindex
X-PUBLISHED-TTL:PT1H
BEGIN:VTIMEZONE
TZID:America/New_York
BEGIN:DAYLIGHT
TZOFFSETFROM:-0500
TZOFFSETTO:-0400
TZNAME:EDT
DTSTART:20240310T070000
END:DAYLIGHT
BEGIN:STANDARD
TZOFFSETFROM:-0400
TZOFFSETTO:-0500
TZNAME:EST
DTSTART:20241103T060000
END:STANDARD
BEGIN:DAYLIGHT
TZOFFSETFROM:-0500
TZOFFSETTO:-0400
TZNAME:EDT
DTSTART:20250309T070000
END:DAYLIGHT
BEGIN:STANDARD
TZOFFSETFROM:-0400
TZOFFSETTO:-0500
TZNAME:EST
DTSTART:20251102T060000
END:STANDARD
BEGIN:DAYLIGHT
TZOFFSETFROM:-0500
TZOFFSETTO:-0400
TZNAME:EDT
DTSTART:20260308T070000
END:DAYLIGHT
BEGIN:STANDARD
TZOFFSETFROM:-0400
TZOFFSETTO:-0500
TZNAME:EST
DTSTART:20261101T060000
END:STANDARD
END:VTIMEZONE
BEGIN:VEVENT
DTSTART;TZID=America/New_York:20250102T000000
DTEND;TZID=America/New_York:20250102T235959
DTSTAMP:20260419T235014
CREATED:20240627T153256Z
LAST-MODIFIED:20240730T154618Z
UID:10002232-1735776000-1735862399@mlwgs.com
SUMMARY:Winter Break
DESCRIPTION:
URL:https://mlwgs.com/event/winter-break/2025-01-02/
CATEGORIES:Holiday
ATTACH;FMTTYPE=image/jpeg:https://mlwgs.com/wp-content/uploads/2024/07/logo_color-1.jpg
END:VEVENT
BEGIN:VEVENT
DTSTART;TZID=America/New_York:20250103T000000
DTEND;TZID=America/New_York:20250103T235959
DTSTAMP:20260419T235014
CREATED:20240627T153256Z
LAST-MODIFIED:20240730T154618Z
UID:10002233-1735862400-1735948799@mlwgs.com
SUMMARY:Winter Break
DESCRIPTION:
URL:https://mlwgs.com/event/winter-break/2025-01-03/
CATEGORIES:Holiday
ATTACH;FMTTYPE=image/jpeg:https://mlwgs.com/wp-content/uploads/2024/07/logo_color-1.jpg
END:VEVENT
BEGIN:VEVENT
DTSTART;TZID=America/New_York:20250104T000000
DTEND;TZID=America/New_York:20250104T235959
DTSTAMP:20260419T235014
CREATED:20240627T153256Z
LAST-MODIFIED:20240730T154618Z
UID:10002234-1735948800-1736035199@mlwgs.com
SUMMARY:Winter Break
DESCRIPTION:
URL:https://mlwgs.com/event/winter-break/2025-01-04/
CATEGORIES:Holiday
ATTACH;FMTTYPE=image/jpeg:https://mlwgs.com/wp-content/uploads/2024/07/logo_color-1.jpg
END:VEVENT
BEGIN:VEVENT
DTSTART;TZID=America/New_York:20250120T000000
DTEND;TZID=America/New_York:20250120T235959
DTSTAMP:20260419T235014
CREATED:20240627T153310Z
LAST-MODIFIED:20240730T154844Z
UID:10000111-1737331200-1737417599@mlwgs.com
SUMMARY:Holiday
DESCRIPTION:
URL:https://mlwgs.com/event/holiday-4/
CATEGORIES:Holiday
ATTACH;FMTTYPE=image/jpeg:https://mlwgs.com/wp-content/uploads/2024/07/logo_color-1.jpg
END:VEVENT
BEGIN:VEVENT
DTSTART;TZID=America/New_York:20250217T000000
DTEND;TZID=America/New_York:20250217T235959
DTSTAMP:20260419T235014
CREATED:20241029T182603Z
LAST-MODIFIED:20241029T182603Z
UID:10003394-1739750400-1739836799@mlwgs.com
SUMMARY:School Holiday
DESCRIPTION:Presidents’ Day
URL:https://mlwgs.com/event/school-holiday/
CATEGORIES:Holiday
ATTACH;FMTTYPE=image/jpeg:https://mlwgs.com/wp-content/uploads/2024/07/mag-default-image.jpg
END:VEVENT
BEGIN:VEVENT
DTSTART;TZID=America/New_York:20250331T000000
DTEND;TZID=America/New_York:20250331T235959
DTSTAMP:20260419T235014
CREATED:20240627T153326Z
LAST-MODIFIED:20240730T161455Z
UID:10000120-1743379200-1743465599@mlwgs.com
SUMMARY:Spring Break
DESCRIPTION:
URL:https://mlwgs.com/event/spring-break/2025-03-31/
CATEGORIES:Holiday
ATTACH;FMTTYPE=image/jpeg:https://mlwgs.com/wp-content/uploads/2024/07/logo_color-1.jpg
END:VEVENT
BEGIN:VEVENT
DTSTART;TZID=America/New_York:20250331T000000
DTEND;TZID=America/New_York:20250403T235959
DTSTAMP:20260419T235014
CREATED:20250311T191540Z
LAST-MODIFIED:20250311T191540Z
UID:10004357-1743379200-1743724799@mlwgs.com
SUMMARY:School Office Open M-Thur During Spring Break
DESCRIPTION:
URL:https://mlwgs.com/event/school-office-open-m-thur-during-spring-break/
CATEGORIES:Holiday
ATTACH;FMTTYPE=image/jpeg:https://mlwgs.com/wp-content/uploads/2024/07/mag-default-image.jpg
END:VEVENT
BEGIN:VEVENT
DTSTART;TZID=America/New_York:20250401T000000
DTEND;TZID=America/New_York:20250401T235959
DTSTAMP:20260419T235014
CREATED:20240627T153326Z
LAST-MODIFIED:20240730T161455Z
UID:10002249-1743465600-1743551999@mlwgs.com
SUMMARY:Spring Break
DESCRIPTION:
URL:https://mlwgs.com/event/spring-break/2025-04-01/
CATEGORIES:Holiday
ATTACH;FMTTYPE=image/jpeg:https://mlwgs.com/wp-content/uploads/2024/07/logo_color-1.jpg
END:VEVENT
BEGIN:VEVENT
DTSTART;TZID=America/New_York:20250402T000000
DTEND;TZID=America/New_York:20250402T235959
DTSTAMP:20260419T235014
CREATED:20240627T153326Z
LAST-MODIFIED:20240730T161455Z
UID:10002250-1743552000-1743638399@mlwgs.com
SUMMARY:Spring Break
DESCRIPTION:
URL:https://mlwgs.com/event/spring-break/2025-04-02/
CATEGORIES:Holiday
ATTACH;FMTTYPE=image/jpeg:https://mlwgs.com/wp-content/uploads/2024/07/logo_color-1.jpg
END:VEVENT
BEGIN:VEVENT
DTSTART;TZID=America/New_York:20250403T000000
DTEND;TZID=America/New_York:20250403T235959
DTSTAMP:20260419T235014
CREATED:20240627T153326Z
LAST-MODIFIED:20240730T161455Z
UID:10002251-1743638400-1743724799@mlwgs.com
SUMMARY:Spring Break
DESCRIPTION:
URL:https://mlwgs.com/event/spring-break/2025-04-03/
CATEGORIES:Holiday
ATTACH;FMTTYPE=image/jpeg:https://mlwgs.com/wp-content/uploads/2024/07/logo_color-1.jpg
END:VEVENT
BEGIN:VEVENT
DTSTART;TZID=America/New_York:20250404T000000
DTEND;TZID=America/New_York:20250404T235959
DTSTAMP:20260419T235014
CREATED:20240627T153326Z
LAST-MODIFIED:20240730T161455Z
UID:10002252-1743724800-1743811199@mlwgs.com
SUMMARY:Spring Break
DESCRIPTION:
URL:https://mlwgs.com/event/spring-break/2025-04-04/
CATEGORIES:Holiday
ATTACH;FMTTYPE=image/jpeg:https://mlwgs.com/wp-content/uploads/2024/07/logo_color-1.jpg
END:VEVENT
BEGIN:VEVENT
DTSTART;TZID=America/New_York:20250526T000000
DTEND;TZID=America/New_York:20250526T235900
DTSTAMP:20260419T235014
CREATED:20240627T153355Z
LAST-MODIFIED:20240627T153355Z
UID:10000128-1748217600-1748303940@mlwgs.com
SUMMARY:Holiday
DESCRIPTION:
URL:https://mlwgs.com/event/holiday-5/
CATEGORIES:Holiday
ATTACH;FMTTYPE=image/jpeg:https://mlwgs.com/wp-content/uploads/2024/07/mag-default-image.jpg
END:VEVENT
BEGIN:VEVENT
DTSTART;TZID=America/New_York:20250619T000000
DTEND;TZID=America/New_York:20250619T235900
DTSTAMP:20260419T235014
CREATED:20240627T153410Z
LAST-MODIFIED:20240627T153410Z
UID:10000131-1750291200-1750377540@mlwgs.com
SUMMARY:Holiday
DESCRIPTION:
URL:https://mlwgs.com/event/holiday-6/
CATEGORIES:Holiday
ATTACH;FMTTYPE=image/jpeg:https://mlwgs.com/wp-content/uploads/2024/07/mag-default-image.jpg
END:VEVENT
BEGIN:VEVENT
DTSTART;TZID=America/New_York:20250703T000000
DTEND;TZID=America/New_York:20250703T235959
DTSTAMP:20260419T235014
CREATED:20250605T145633Z
LAST-MODIFIED:20250605T145633Z
UID:10005085-1751500800-1751587199@mlwgs.com
SUMMARY:Holiday
DESCRIPTION:
URL:https://mlwgs.com/event/holiday-14/
CATEGORIES:Holiday
ATTACH;FMTTYPE=image/jpeg:https://mlwgs.com/wp-content/uploads/2024/07/mag-default-image.jpg
END:VEVENT
BEGIN:VEVENT
DTSTART;TZID=America/New_York:20250829T000000
DTEND;TZID=America/New_York:20250829T235959
DTSTAMP:20260419T235014
CREATED:20250530T190539Z
LAST-MODIFIED:20250530T190539Z
UID:10004546-1756425600-1756511999@mlwgs.com
SUMMARY:School Holiday
DESCRIPTION:
URL:https://mlwgs.com/event/school-holiday-2/2025-08-29/
CATEGORIES:Holiday
ATTACH;FMTTYPE=image/jpeg:https://mlwgs.com/wp-content/uploads/2024/07/mag-default-image.jpg
END:VEVENT
BEGIN:VEVENT
DTSTART;TZID=America/New_York:20250901T080000
DTEND;TZID=America/New_York:20250901T170000
DTSTAMP:20260419T235014
CREATED:20250530T190539Z
LAST-MODIFIED:20250530T190539Z
UID:10004547-1756713600-1756746000@mlwgs.com
SUMMARY:School Holiday
DESCRIPTION:
URL:https://mlwgs.com/event/school-holiday-2/2025-09-01/
CATEGORIES:Holiday
ATTACH;FMTTYPE=image/jpeg:https://mlwgs.com/wp-content/uploads/2024/07/mag-default-image.jpg
END:VEVENT
BEGIN:VEVENT
DTSTART;TZID=America/New_York:20251002T080000
DTEND;TZID=America/New_York:20251002T170000
DTSTAMP:20260419T235014
CREATED:20250530T190539Z
LAST-MODIFIED:20250530T190539Z
UID:10004548-1759392000-1759424400@mlwgs.com
SUMMARY:School Holiday
DESCRIPTION:
URL:https://mlwgs.com/event/school-holiday-2/2025-10-02/
CATEGORIES:Holiday
ATTACH;FMTTYPE=image/jpeg:https://mlwgs.com/wp-content/uploads/2024/07/mag-default-image.jpg
END:VEVENT
BEGIN:VEVENT
DTSTART;TZID=America/New_York:20251020T080000
DTEND;TZID=America/New_York:20251020T170000
DTSTAMP:20260419T235014
CREATED:20250530T190539Z
LAST-MODIFIED:20250530T190539Z
UID:10004549-1760947200-1760979600@mlwgs.com
SUMMARY:School Holiday
DESCRIPTION:
URL:https://mlwgs.com/event/school-holiday-2/2025-10-20/
CATEGORIES:Holiday
ATTACH;FMTTYPE=image/jpeg:https://mlwgs.com/wp-content/uploads/2024/07/mag-default-image.jpg
END:VEVENT
BEGIN:VEVENT
DTSTART;TZID=America/New_York:20251104T080000
DTEND;TZID=America/New_York:20251104T170000
DTSTAMP:20260419T235014
CREATED:20250530T190539Z
LAST-MODIFIED:20250530T190539Z
UID:10004550-1762243200-1762275600@mlwgs.com
SUMMARY:School Holiday
DESCRIPTION:
URL:https://mlwgs.com/event/school-holiday-2/2025-11-04/
CATEGORIES:Holiday
ATTACH;FMTTYPE=image/jpeg:https://mlwgs.com/wp-content/uploads/2024/07/mag-default-image.jpg
END:VEVENT
BEGIN:VEVENT
DTSTART;TZID=America/New_York:20251126T080000
DTEND;TZID=America/New_York:20251126T170000
DTSTAMP:20260419T235014
CREATED:20250530T190539Z
LAST-MODIFIED:20250530T190539Z
UID:10004551-1764144000-1764176400@mlwgs.com
SUMMARY:School Holiday
DESCRIPTION:
URL:https://mlwgs.com/event/school-holiday-2/2025-11-26/
CATEGORIES:Holiday
ATTACH;FMTTYPE=image/jpeg:https://mlwgs.com/wp-content/uploads/2024/07/mag-default-image.jpg
END:VEVENT
BEGIN:VEVENT
DTSTART;TZID=America/New_York:20251127T080000
DTEND;TZID=America/New_York:20251127T170000
DTSTAMP:20260419T235014
CREATED:20250530T190539Z
LAST-MODIFIED:20250530T190539Z
UID:10004552-1764230400-1764262800@mlwgs.com
SUMMARY:School Holiday
DESCRIPTION:
URL:https://mlwgs.com/event/school-holiday-2/2025-11-27/
CATEGORIES:Holiday
ATTACH;FMTTYPE=image/jpeg:https://mlwgs.com/wp-content/uploads/2024/07/mag-default-image.jpg
END:VEVENT
BEGIN:VEVENT
DTSTART;TZID=America/New_York:20251128T080000
DTEND;TZID=America/New_York:20251128T170000
DTSTAMP:20260419T235014
CREATED:20250530T190539Z
LAST-MODIFIED:20250530T190539Z
UID:10004553-1764316800-1764349200@mlwgs.com
SUMMARY:School Holiday
DESCRIPTION:
URL:https://mlwgs.com/event/school-holiday-2/2025-11-28/
CATEGORIES:Holiday
ATTACH;FMTTYPE=image/jpeg:https://mlwgs.com/wp-content/uploads/2024/07/mag-default-image.jpg
END:VEVENT
BEGIN:VEVENT
DTSTART;TZID=America/New_York:20251222T000000
DTEND;TZID=America/New_York:20251222T235959
DTSTAMP:20260419T235014
CREATED:20250602T151941Z
LAST-MODIFIED:20250602T151941Z
UID:10004585-1766361600-1766447999@mlwgs.com
SUMMARY:Winter Break - School Closed
DESCRIPTION:
URL:https://mlwgs.com/event/winter-break-school-closed/2025-12-22/
CATEGORIES:Holiday
ATTACH;FMTTYPE=image/jpeg:https://mlwgs.com/wp-content/uploads/2024/07/mag-default-image.jpg
END:VEVENT
BEGIN:VEVENT
DTSTART;TZID=America/New_York:20251223T080000
DTEND;TZID=America/New_York:20251223T170000
DTSTAMP:20260419T235014
CREATED:20250602T151941Z
LAST-MODIFIED:20250602T151941Z
UID:10004586-1766476800-1766509200@mlwgs.com
SUMMARY:Winter Break - School Closed
DESCRIPTION:
URL:https://mlwgs.com/event/winter-break-school-closed/2025-12-23/
CATEGORIES:Holiday
ATTACH;FMTTYPE=image/jpeg:https://mlwgs.com/wp-content/uploads/2024/07/mag-default-image.jpg
END:VEVENT
BEGIN:VEVENT
DTSTART;TZID=America/New_York:20251224T080000
DTEND;TZID=America/New_York:20251224T170000
DTSTAMP:20260419T235014
CREATED:20250602T151941Z
LAST-MODIFIED:20250602T151941Z
UID:10004587-1766563200-1766595600@mlwgs.com
SUMMARY:Winter Break - School Closed
DESCRIPTION:
URL:https://mlwgs.com/event/winter-break-school-closed/2025-12-24/
CATEGORIES:Holiday
ATTACH;FMTTYPE=image/jpeg:https://mlwgs.com/wp-content/uploads/2024/07/mag-default-image.jpg
END:VEVENT
BEGIN:VEVENT
DTSTART;TZID=America/New_York:20251225T080000
DTEND;TZID=America/New_York:20251225T170000
DTSTAMP:20260419T235014
CREATED:20250602T151941Z
LAST-MODIFIED:20250602T151941Z
UID:10004588-1766649600-1766682000@mlwgs.com
SUMMARY:Winter Break - School Closed
DESCRIPTION:
URL:https://mlwgs.com/event/winter-break-school-closed/2025-12-25/
CATEGORIES:Holiday
ATTACH;FMTTYPE=image/jpeg:https://mlwgs.com/wp-content/uploads/2024/07/mag-default-image.jpg
END:VEVENT
BEGIN:VEVENT
DTSTART;TZID=America/New_York:20251226T080000
DTEND;TZID=America/New_York:20251226T170000
DTSTAMP:20260419T235014
CREATED:20250602T151941Z
LAST-MODIFIED:20250602T151941Z
UID:10004589-1766736000-1766768400@mlwgs.com
SUMMARY:Winter Break - School Closed
DESCRIPTION:
URL:https://mlwgs.com/event/winter-break-school-closed/2025-12-26/
CATEGORIES:Holiday
ATTACH;FMTTYPE=image/jpeg:https://mlwgs.com/wp-content/uploads/2024/07/mag-default-image.jpg
END:VEVENT
BEGIN:VEVENT
DTSTART;TZID=America/New_York:20251229T080000
DTEND;TZID=America/New_York:20251229T170000
DTSTAMP:20260419T235014
CREATED:20250602T151941Z
LAST-MODIFIED:20250602T151941Z
UID:10004590-1766995200-1767027600@mlwgs.com
SUMMARY:Winter Break - School Closed
DESCRIPTION:
URL:https://mlwgs.com/event/winter-break-school-closed/2025-12-29/
CATEGORIES:Holiday
ATTACH;FMTTYPE=image/jpeg:https://mlwgs.com/wp-content/uploads/2024/07/mag-default-image.jpg
END:VEVENT
BEGIN:VEVENT
DTSTART;TZID=America/New_York:20251230T080000
DTEND;TZID=America/New_York:20251230T170000
DTSTAMP:20260419T235014
CREATED:20250602T151941Z
LAST-MODIFIED:20250602T151941Z
UID:10004591-1767081600-1767114000@mlwgs.com
SUMMARY:Winter Break - School Closed
DESCRIPTION:
URL:https://mlwgs.com/event/winter-break-school-closed/2025-12-30/
CATEGORIES:Holiday
ATTACH;FMTTYPE=image/jpeg:https://mlwgs.com/wp-content/uploads/2024/07/mag-default-image.jpg
END:VEVENT
BEGIN:VEVENT
DTSTART;TZID=America/New_York:20251231T080000
DTEND;TZID=America/New_York:20251231T170000
DTSTAMP:20260419T235014
CREATED:20250602T151941Z
LAST-MODIFIED:20250602T151941Z
UID:10004592-1767168000-1767200400@mlwgs.com
SUMMARY:Winter Break - School Closed
DESCRIPTION:
URL:https://mlwgs.com/event/winter-break-school-closed/2025-12-31/
CATEGORIES:Holiday
ATTACH;FMTTYPE=image/jpeg:https://mlwgs.com/wp-content/uploads/2024/07/mag-default-image.jpg
END:VEVENT
END:VCALENDAR