BEGIN:VCALENDAR
VERSION:2.0
PRODID:-//Maggie L. Walker Governor&#039;s School - ECPv6.15.17.1//NONSGML v1.0//EN
CALSCALE:GREGORIAN
METHOD:PUBLISH
X-WR-CALNAME:Maggie L. Walker Governor&#039;s School
X-ORIGINAL-URL:https://mlwgs.com
X-WR-CALDESC:Events for Maggie L. Walker Governor&#039;s School
REFRESH-INTERVAL;VALUE=DURATION:PT1H
X-Robots-Tag:noindex
X-PUBLISHED-TTL:PT1H
BEGIN:VTIMEZONE
TZID:America/New_York
BEGIN:DAYLIGHT
TZOFFSETFROM:-0500
TZOFFSETTO:-0400
TZNAME:EDT
DTSTART:20250309T070000
END:DAYLIGHT
BEGIN:STANDARD
TZOFFSETFROM:-0400
TZOFFSETTO:-0500
TZNAME:EST
DTSTART:20251102T060000
END:STANDARD
BEGIN:DAYLIGHT
TZOFFSETFROM:-0500
TZOFFSETTO:-0400
TZNAME:EDT
DTSTART:20260308T070000
END:DAYLIGHT
BEGIN:STANDARD
TZOFFSETFROM:-0400
TZOFFSETTO:-0500
TZNAME:EST
DTSTART:20261101T060000
END:STANDARD
BEGIN:DAYLIGHT
TZOFFSETFROM:-0500
TZOFFSETTO:-0400
TZNAME:EDT
DTSTART:20270314T070000
END:DAYLIGHT
BEGIN:STANDARD
TZOFFSETFROM:-0400
TZOFFSETTO:-0500
TZNAME:EST
DTSTART:20271107T060000
END:STANDARD
BEGIN:DAYLIGHT
TZOFFSETFROM:-0500
TZOFFSETTO:-0400
TZNAME:EDT
DTSTART:20280312T070000
END:DAYLIGHT
BEGIN:STANDARD
TZOFFSETFROM:-0400
TZOFFSETTO:-0500
TZNAME:EST
DTSTART:20281105T060000
END:STANDARD
END:VTIMEZONE
BEGIN:VEVENT
DTSTART;TZID=America/New_York:20260702T000000
DTEND;TZID=America/New_York:20260702T235959
DTSTAMP:20260419T130937
CREATED:20260108T202207Z
LAST-MODIFIED:20260108T202207Z
UID:10007485-1782950400-1783036799@mlwgs.com
SUMMARY:Holiday - Closed
DESCRIPTION:
URL:https://mlwgs.com/event/holiday-closed-3/
CATEGORIES:Holiday
ATTACH;FMTTYPE=image/jpeg:https://mlwgs.com/wp-content/uploads/2024/07/mag-default-image.jpg
END:VEVENT
BEGIN:VEVENT
DTSTART;TZID=America/New_York:20260904T000000
DTEND;TZID=America/New_York:20260904T235959
DTSTAMP:20260419T130937
CREATED:20260220T152401Z
LAST-MODIFIED:20260220T152451Z
UID:10009471-1788480000-1788566399@mlwgs.com
SUMMARY:Holiday - Closed
DESCRIPTION:
URL:https://mlwgs.com/event/holiday-closed-4/2026-09-04/
CATEGORIES:Holiday
ATTACH;FMTTYPE=image/jpeg:https://mlwgs.com/wp-content/uploads/2024/07/mag-default-image.jpg
END:VEVENT
BEGIN:VEVENT
DTSTART;TZID=America/New_York:20260907T080000
DTEND;TZID=America/New_York:20260907T170000
DTSTAMP:20260419T130937
CREATED:20260220T152401Z
LAST-MODIFIED:20260220T152451Z
UID:10009472-1788768000-1788800400@mlwgs.com
SUMMARY:Holiday - Closed
DESCRIPTION:
URL:https://mlwgs.com/event/holiday-closed-4/2026-09-07/
CATEGORIES:Holiday
ATTACH;FMTTYPE=image/jpeg:https://mlwgs.com/wp-content/uploads/2024/07/mag-default-image.jpg
END:VEVENT
BEGIN:VEVENT
DTSTART;TZID=America/New_York:20260921T080000
DTEND;TZID=America/New_York:20260921T170000
DTSTAMP:20260419T130937
CREATED:20260220T152401Z
LAST-MODIFIED:20260220T152451Z
UID:10009473-1789977600-1790010000@mlwgs.com
SUMMARY:Holiday - Closed
DESCRIPTION:
URL:https://mlwgs.com/event/holiday-closed-4/2026-09-21/
CATEGORIES:Holiday
ATTACH;FMTTYPE=image/jpeg:https://mlwgs.com/wp-content/uploads/2024/07/mag-default-image.jpg
END:VEVENT
BEGIN:VEVENT
DTSTART;TZID=America/New_York:20261103T000000
DTEND;TZID=America/New_York:20261103T235959
DTSTAMP:20260419T130937
CREATED:20260220T153138Z
LAST-MODIFIED:20260220T153138Z
UID:10009477-1793664000-1793750399@mlwgs.com
SUMMARY:School Holiday - Closed
DESCRIPTION:
URL:https://mlwgs.com/event/school-holiday-closed-2/2026-11-03/
CATEGORIES:Holiday
ATTACH;FMTTYPE=image/jpeg:https://mlwgs.com/wp-content/uploads/2024/07/mag-default-image.jpg
END:VEVENT
BEGIN:VEVENT
DTSTART;TZID=America/New_York:20261109T080000
DTEND;TZID=America/New_York:20261109T170000
DTSTAMP:20260419T130937
CREATED:20260220T153138Z
LAST-MODIFIED:20260220T153138Z
UID:10009478-1794211200-1794243600@mlwgs.com
SUMMARY:School Holiday - Closed
DESCRIPTION:
URL:https://mlwgs.com/event/school-holiday-closed-2/2026-11-09/
CATEGORIES:Holiday
ATTACH;FMTTYPE=image/jpeg:https://mlwgs.com/wp-content/uploads/2024/07/mag-default-image.jpg
END:VEVENT
BEGIN:VEVENT
DTSTART;TZID=America/New_York:20261125T000000
DTEND;TZID=America/New_York:20261127T235959
DTSTAMP:20260419T130937
CREATED:20260220T153015Z
LAST-MODIFIED:20260220T153015Z
UID:10009476-1795564800-1795823999@mlwgs.com
SUMMARY:School Holiday - Closed
DESCRIPTION:
URL:https://mlwgs.com/event/school-holiday-closed/
CATEGORIES:Holiday
ATTACH;FMTTYPE=image/jpeg:https://mlwgs.com/wp-content/uploads/2024/07/mag-default-image.jpg
END:VEVENT
BEGIN:VEVENT
DTSTART;TZID=America/New_York:20261221T000000
DTEND;TZID=America/New_York:20270101T235959
DTSTAMP:20260419T130937
CREATED:20260220T153823Z
LAST-MODIFIED:20260220T153823Z
UID:10009482-1797811200-1798847999@mlwgs.com
SUMMARY:Winter Break
DESCRIPTION:
URL:https://mlwgs.com/event/winter-break-2/
CATEGORIES:Holiday
ATTACH;FMTTYPE=image/jpeg:https://mlwgs.com/wp-content/uploads/2024/07/mag-default-image.jpg
END:VEVENT
BEGIN:VEVENT
DTSTART;TZID=America/New_York:20270118T000000
DTEND;TZID=America/New_York:20270118T235959
DTSTAMP:20260419T130937
CREATED:20260224T140532Z
LAST-MODIFIED:20260224T140532Z
UID:10009601-1800230400-1800316799@mlwgs.com
SUMMARY:Holiday - Closed
DESCRIPTION:
URL:https://mlwgs.com/event/holiday-closed-5/
CATEGORIES:Holiday
ATTACH;FMTTYPE=image/jpeg:https://mlwgs.com/wp-content/uploads/2024/07/mag-default-image.jpg
END:VEVENT
BEGIN:VEVENT
DTSTART;TZID=America/New_York:20270215T000000
DTEND;TZID=America/New_York:20270215T235959
DTSTAMP:20260419T130937
CREATED:20260224T141137Z
LAST-MODIFIED:20260224T141137Z
UID:10009605-1802649600-1802735999@mlwgs.com
SUMMARY:Holiday - Closed
DESCRIPTION:
URL:https://mlwgs.com/event/holiday-closed-6/
CATEGORIES:Holiday
ATTACH;FMTTYPE=image/jpeg:https://mlwgs.com/wp-content/uploads/2024/07/mag-default-image.jpg
END:VEVENT
BEGIN:VEVENT
DTSTART;TZID=America/New_York:20270310T000000
DTEND;TZID=America/New_York:20270310T235959
DTSTAMP:20260419T130937
CREATED:20260224T141441Z
LAST-MODIFIED:20260224T141441Z
UID:10009608-1804636800-1804723199@mlwgs.com
SUMMARY:Holiday - Closed
DESCRIPTION:
URL:https://mlwgs.com/event/holiday-closed-7/
CATEGORIES:Holiday
ATTACH;FMTTYPE=image/jpeg:https://mlwgs.com/wp-content/uploads/2024/07/mag-default-image.jpg
END:VEVENT
BEGIN:VEVENT
DTSTART;TZID=America/New_York:20270329T000000
DTEND;TZID=America/New_York:20270402T235959
DTSTAMP:20260419T130937
CREATED:20260224T141621Z
LAST-MODIFIED:20260224T141621Z
UID:10009610-1806278400-1806710399@mlwgs.com
SUMMARY:Spring Break
DESCRIPTION:
URL:https://mlwgs.com/event/spring-break-3/
CATEGORIES:Holiday
ATTACH;FMTTYPE=image/jpeg:https://mlwgs.com/wp-content/uploads/2024/07/mag-default-image.jpg
END:VEVENT
BEGIN:VEVENT
DTSTART;TZID=America/New_York:20270531T000000
DTEND;TZID=America/New_York:20270531T235959
DTSTAMP:20260419T130937
CREATED:20260225T133419Z
LAST-MODIFIED:20260225T134206Z
UID:10009630-1811721600-1811807999@mlwgs.com
SUMMARY:Holiday - Closed
DESCRIPTION:
URL:https://mlwgs.com/event/holiday-closed-8/2027-05-31/
CATEGORIES:Holiday
ATTACH;FMTTYPE=image/jpeg:https://mlwgs.com/wp-content/uploads/2024/07/mag-default-image.jpg
END:VEVENT
BEGIN:VEVENT
DTSTART;TZID=America/New_York:20270617T073000
DTEND;TZID=America/New_York:20270617T170000
DTSTAMP:20260419T130937
CREATED:20260225T133419Z
LAST-MODIFIED:20260225T134206Z
UID:10009636-1813217400-1813251600@mlwgs.com
SUMMARY:Holiday - Closed
DESCRIPTION:
URL:https://mlwgs.com/event/holiday-closed-8/2027-06-17/
CATEGORIES:Holiday
ATTACH;FMTTYPE=image/jpeg:https://mlwgs.com/wp-content/uploads/2024/07/mag-default-image.jpg
END:VEVENT
END:VCALENDAR