BEGIN:VCALENDAR
VERSION:2.0
PRODID:-//Maggie L. Walker Governor&#039;s School - ECPv6.15.17.1//NONSGML v1.0//EN
CALSCALE:GREGORIAN
METHOD:PUBLISH
X-WR-CALNAME:Maggie L. Walker Governor&#039;s School
X-ORIGINAL-URL:https://mlwgs.com
X-WR-CALDESC:Events for Maggie L. Walker Governor&#039;s School
REFRESH-INTERVAL;VALUE=DURATION:PT1H
X-Robots-Tag:noindex
X-PUBLISHED-TTL:PT1H
BEGIN:VTIMEZONE
TZID:America/New_York
BEGIN:DAYLIGHT
TZOFFSETFROM:-0500
TZOFFSETTO:-0400
TZNAME:EDT
DTSTART:20230312T070000
END:DAYLIGHT
BEGIN:STANDARD
TZOFFSETFROM:-0400
TZOFFSETTO:-0500
TZNAME:EST
DTSTART:20231105T060000
END:STANDARD
BEGIN:DAYLIGHT
TZOFFSETFROM:-0500
TZOFFSETTO:-0400
TZNAME:EDT
DTSTART:20240310T070000
END:DAYLIGHT
BEGIN:STANDARD
TZOFFSETFROM:-0400
TZOFFSETTO:-0500
TZNAME:EST
DTSTART:20241103T060000
END:STANDARD
BEGIN:DAYLIGHT
TZOFFSETFROM:-0500
TZOFFSETTO:-0400
TZNAME:EDT
DTSTART:20250309T070000
END:DAYLIGHT
BEGIN:STANDARD
TZOFFSETFROM:-0400
TZOFFSETTO:-0500
TZNAME:EST
DTSTART:20251102T060000
END:STANDARD
BEGIN:DAYLIGHT
TZOFFSETFROM:-0500
TZOFFSETTO:-0400
TZNAME:EDT
DTSTART:20260308T070000
END:DAYLIGHT
BEGIN:STANDARD
TZOFFSETFROM:-0400
TZOFFSETTO:-0500
TZNAME:EST
DTSTART:20261101T060000
END:STANDARD
END:VTIMEZONE
BEGIN:VEVENT
DTSTART;TZID=America/New_York:20251103T073000
DTEND;TZID=America/New_York:20251103T110000
DTSTAMP:20260422T005411
CREATED:20251023T123227Z
LAST-MODIFIED:20251023T140905Z
UID:10007366-1762155000-1762167600@mlwgs.com
SUMMARY:Network Maintenance (Building-wide)
DESCRIPTION:Attention:  Internet Services will be disrupted during the morning hours of Monday\, November 3\, 2025.  Full services will be restored by 11am. \nStaff planning on using their school offices for Parent/Teacher Zoom Conferences starting at Noon will not be impacted. \nQuestions?  Contact MWtech:  techsupport@gsgis.k12.va.us
URL:https://mlwgs.com/event/network-maintenance-building-wide/
LOCATION:Maggie L. Walker Governor’s School
CATEGORIES:MWTech
ATTACH;FMTTYPE=image/jpeg:https://mlwgs.com/wp-content/uploads/2024/07/mag-default-image.jpg
END:VEVENT
BEGIN:VEVENT
DTSTART;TZID=America/New_York:20251028T153000
DTEND;TZID=America/New_York:20251028T163000
DTSTAMP:20260422T005411
CREATED:20251022T194516Z
LAST-MODIFIED:20251022T194516Z
UID:10007365-1761665400-1761669000@mlwgs.com
SUMMARY:Zoom Review (MWtech - Room 231)
DESCRIPTION:Teachers are invited to ask questions regarding the process of hosting Zoom Parent/Teacher Conferences.  Please bring your laptop! \nWe will begin promptly in room 231 at 3:30pm. \nQuestions?  Email MWtech:  techsupport@gsgis.k12.va.us
URL:https://mlwgs.com/event/zoom-review-mwtech-room-231/
LOCATION:Maggie L. Walker Governor’s School
CATEGORIES:MWTech
ATTACH;FMTTYPE=image/jpeg:https://mlwgs.com/wp-content/uploads/2024/07/mag-default-image.jpg
END:VEVENT
BEGIN:VEVENT
DTSTART;TZID=America/New_York:20251023T140000
DTEND;TZID=America/New_York:20251023T144500
DTSTAMP:20260422T005411
CREATED:20251022T180525Z
LAST-MODIFIED:20251022T180525Z
UID:10007362-1761228000-1761230700@mlwgs.com
SUMMARY:System Testing (AUD)
DESCRIPTION:MWtech – Systems Check
URL:https://mlwgs.com/event/system-testing-aud/
LOCATION:Maggie L. Walker Governor’s School
CATEGORIES:MWTech
ATTACH;FMTTYPE=image/jpeg:https://mlwgs.com/wp-content/uploads/2024/07/mag-default-image.jpg
END:VEVENT
BEGIN:VEVENT
DTSTART;TZID=America/New_York:20251002T080000
DTEND;TZID=America/New_York:20251002T180000
DTSTAMP:20260422T005411
CREATED:20250923T133933Z
LAST-MODIFIED:20250923T133933Z
UID:10007286-1759392000-1759428000@mlwgs.com
SUMMARY:Server Migration | Network System Service
DESCRIPTION:Attention:   \nInternet and network systems will be unavailable during the maintenance window (8am – 6pm).  \nContact Mr. Bortz with MWtech should you have any questions or concerns:  techsupport@gsgis.k12.va.us
URL:https://mlwgs.com/event/server-migration-network-system-service/
LOCATION:Maggie L. Walker Governor’s School
CATEGORIES:MWTech
ATTACH;FMTTYPE=image/jpeg:https://mlwgs.com/wp-content/uploads/2024/07/mag-default-image.jpg
END:VEVENT
BEGIN:VEVENT
DTSTART;TZID=America/New_York:20240912T123000
DTEND;TZID=America/New_York:20240912T143000
DTSTAMP:20260422T005411
CREATED:20240904T171153Z
LAST-MODIFIED:20240904T171153Z
UID:10003172-1726144200-1726151400@mlwgs.com
SUMMARY:Tech Theater | Testing (AUD)
DESCRIPTION:
URL:https://mlwgs.com/event/tech-theater-testing-aud/
LOCATION:Maggie L. Walker Governor’s School
CATEGORIES:MWTech
ATTACH;FMTTYPE=image/jpeg:https://mlwgs.com/wp-content/uploads/2024/07/mag-default-image.jpg
END:VEVENT
BEGIN:VEVENT
DTSTART;TZID=America/New_York:20240904T080000
DTEND;TZID=America/New_York:20240904T123000
DTSTAMP:20260422T005411
CREATED:20240903T123422Z
LAST-MODIFIED:20240903T125056Z
UID:10003170-1725436800-1725453000@mlwgs.com
SUMMARY:NetOps (RM-221)
DESCRIPTION:Network Operations – System Updates \nContact:  Mr. David Bortz\, CTO
URL:https://mlwgs.com/event/netops/
CATEGORIES:MWTech
ATTACH;FMTTYPE=image/jpeg:https://mlwgs.com/wp-content/uploads/2024/07/mag-default-image.jpg
END:VEVENT
END:VCALENDAR