BEGIN:VCALENDAR
VERSION:2.0
PRODID:-//Maggie L. Walker Governor&#039;s School - ECPv6.15.17.1//NONSGML v1.0//EN
CALSCALE:GREGORIAN
METHOD:PUBLISH
X-WR-CALNAME:Maggie L. Walker Governor&#039;s School
X-ORIGINAL-URL:https://mlwgs.com
X-WR-CALDESC:Events for Maggie L. Walker Governor&#039;s School
REFRESH-INTERVAL;VALUE=DURATION:PT1H
X-Robots-Tag:noindex
X-PUBLISHED-TTL:PT1H
BEGIN:VTIMEZONE
TZID:America/New_York
BEGIN:DAYLIGHT
TZOFFSETFROM:-0500
TZOFFSETTO:-0400
TZNAME:EDT
DTSTART:20240310T070000
END:DAYLIGHT
BEGIN:STANDARD
TZOFFSETFROM:-0400
TZOFFSETTO:-0500
TZNAME:EST
DTSTART:20241103T060000
END:STANDARD
BEGIN:DAYLIGHT
TZOFFSETFROM:-0500
TZOFFSETTO:-0400
TZNAME:EDT
DTSTART:20250309T070000
END:DAYLIGHT
BEGIN:STANDARD
TZOFFSETFROM:-0400
TZOFFSETTO:-0500
TZNAME:EST
DTSTART:20251102T060000
END:STANDARD
BEGIN:DAYLIGHT
TZOFFSETFROM:-0500
TZOFFSETTO:-0400
TZNAME:EDT
DTSTART:20260308T070000
END:DAYLIGHT
BEGIN:STANDARD
TZOFFSETFROM:-0400
TZOFFSETTO:-0500
TZNAME:EST
DTSTART:20261101T060000
END:STANDARD
END:VTIMEZONE
BEGIN:VEVENT
DTSTART;TZID=America/New_York:20250505T113000
DTEND;TZID=America/New_York:20250505T123000
DTSTAMP:20260424T200649
CREATED:20250429T141028Z
LAST-MODIFIED:20250430T153526Z
UID:10004471-1746444600-1746448200@mlwgs.com
SUMMARY:Teacher Appreciation Luncheon (Location: Outside Concession Weather Permitting)
DESCRIPTION:Tex-Mex Fiesta
URL:https://mlwgs.com/event/teacher-appreciation-luncheon-location-tbd/
CATEGORIES:PTSA/Boosters Function
ATTACH;FMTTYPE=image/jpeg:https://mlwgs.com/wp-content/uploads/2024/07/mag-default-image.jpg
END:VEVENT
BEGIN:VEVENT
DTSTART;TZID=America/New_York:20250505T180000
DTEND;TZID=America/New_York:20250505T190000
DTSTAMP:20260424T200649
CREATED:20250205T164631Z
LAST-MODIFIED:20250428T125044Z
UID:10004215-1746468000-1746471600@mlwgs.com
SUMMARY:PTSA Meeting (Location: Room 104/105)
DESCRIPTION:
URL:https://mlwgs.com/event/ptsa-meeting-location-tbd/
CATEGORIES:PTSA/Boosters Function
ATTACH;FMTTYPE=image/jpeg:https://mlwgs.com/wp-content/uploads/2024/07/mag-default-image.jpg
END:VEVENT
BEGIN:VEVENT
DTSTART;TZID=America/New_York:20250506T113000
DTEND;TZID=America/New_York:20250506T123000
DTSTAMP:20260424T200649
CREATED:20250429T141123Z
LAST-MODIFIED:20250430T153651Z
UID:10004472-1746531000-1746534600@mlwgs.com
SUMMARY:Teacher Appreciation Luncheon (Location: Rooms 227 and 228)
DESCRIPTION:Sandwiches from Costco
URL:https://mlwgs.com/event/teacher-appreciation-luncheon-location-tbd-2/
CATEGORIES:PTSA/Boosters Function
ATTACH;FMTTYPE=image/jpeg:https://mlwgs.com/wp-content/uploads/2024/07/mag-default-image.jpg
END:VEVENT
BEGIN:VEVENT
DTSTART;TZID=America/New_York:20250506T180000
DTEND;TZID=America/New_York:20250506T190000
DTSTAMP:20260424T200649
CREATED:20240909T180733Z
LAST-MODIFIED:20240909T180733Z
UID:10003212-1746554400-1746558000@mlwgs.com
SUMMARY:Athletic Boosters Meeting (Virtual)
DESCRIPTION:Link to this meeting URL:  https://sites.google.com/view/mlwgs-ab-site/meetings
URL:https://mlwgs.com/event/athletic-boosters-meeting-virtual/2025-05-06/
CATEGORIES:PTSA/Boosters Function
ATTACH;FMTTYPE=image/png:https://mlwgs.com/wp-content/uploads/2017/04/athletics_2-e1493397081216.png
ORGANIZER;CN="Ms. Paige Hawkins":MAILTO:phawkins@gsgis.k12.va.us
END:VEVENT
BEGIN:VEVENT
DTSTART;TZID=America/New_York:20250507T130000
DTEND;TZID=America/New_York:20250507T150000
DTSTAMP:20260424T200649
CREATED:20250429T141225Z
LAST-MODIFIED:20250430T153746Z
UID:10004473-1746622800-1746630000@mlwgs.com
SUMMARY:Teacher Snack Day (Location Rooms 227 and 228)
DESCRIPTION:Dessert/Charcuterie
URL:https://mlwgs.com/event/teacher-snack-day-location-tbd/
CATEGORIES:PTSA/Boosters Function
ATTACH;FMTTYPE=image/jpeg:https://mlwgs.com/wp-content/uploads/2024/07/mag-default-image.jpg
END:VEVENT
BEGIN:VEVENT
DTSTART;TZID=America/New_York:20250508T080000
DTEND;TZID=America/New_York:20250508T100000
DTSTAMP:20260424T200649
CREATED:20250429T141411Z
LAST-MODIFIED:20250430T153939Z
UID:10004474-1746691200-1746698400@mlwgs.com
SUMMARY:Teacher Appreciation Breakfast (Location: Rooms 227 and 228)
DESCRIPTION:
URL:https://mlwgs.com/event/teacher-appreciation-breakfast-location-tbd/
CATEGORIES:PTSA/Boosters Function
ATTACH;FMTTYPE=image/jpeg:https://mlwgs.com/wp-content/uploads/2024/07/mag-default-image.jpg
END:VEVENT
BEGIN:VEVENT
DTSTART;TZID=America/New_York:20250509T113000
DTEND;TZID=America/New_York:20250509T123000
DTSTAMP:20260424T200649
CREATED:20250429T141515Z
LAST-MODIFIED:20250430T154045Z
UID:10004475-1746790200-1746793800@mlwgs.com
SUMMARY:Teacher Appreciation Luncheon (Location: Outside Concession Weather Permitting)
DESCRIPTION:Southern BBQ
URL:https://mlwgs.com/event/teacher-appreciation-luncheon-location-tbd-3/
CATEGORIES:PTSA/Boosters Function
ATTACH;FMTTYPE=image/jpeg:https://mlwgs.com/wp-content/uploads/2024/07/mag-default-image.jpg
END:VEVENT
END:VCALENDAR