BEGIN:VCALENDAR
VERSION:2.0
PRODID:-//Maggie L. Walker Governor&#039;s School - ECPv6.15.17.1//NONSGML v1.0//EN
CALSCALE:GREGORIAN
METHOD:PUBLISH
X-WR-CALNAME:Maggie L. Walker Governor&#039;s School
X-ORIGINAL-URL:https://mlwgs.com
X-WR-CALDESC:Events for Maggie L. Walker Governor&#039;s School
REFRESH-INTERVAL;VALUE=DURATION:PT1H
X-Robots-Tag:noindex
X-PUBLISHED-TTL:PT1H
BEGIN:VTIMEZONE
TZID:America/New_York
BEGIN:DAYLIGHT
TZOFFSETFROM:-0500
TZOFFSETTO:-0400
TZNAME:EDT
DTSTART:20240310T070000
END:DAYLIGHT
BEGIN:STANDARD
TZOFFSETFROM:-0400
TZOFFSETTO:-0500
TZNAME:EST
DTSTART:20241103T060000
END:STANDARD
BEGIN:DAYLIGHT
TZOFFSETFROM:-0500
TZOFFSETTO:-0400
TZNAME:EDT
DTSTART:20250309T070000
END:DAYLIGHT
BEGIN:STANDARD
TZOFFSETFROM:-0400
TZOFFSETTO:-0500
TZNAME:EST
DTSTART:20251102T060000
END:STANDARD
BEGIN:DAYLIGHT
TZOFFSETFROM:-0500
TZOFFSETTO:-0400
TZNAME:EDT
DTSTART:20260308T070000
END:DAYLIGHT
BEGIN:STANDARD
TZOFFSETFROM:-0400
TZOFFSETTO:-0500
TZNAME:EST
DTSTART:20261101T060000
END:STANDARD
END:VTIMEZONE
BEGIN:VEVENT
DTSTART;TZID=America/New_York:20251021T180000
DTEND;TZID=America/New_York:20251021T190000
DTSTAMP:20260424T123739
CREATED:20251007T190305Z
LAST-MODIFIED:20251007T190305Z
UID:10007310-1761069600-1761073200@mlwgs.com
SUMMARY:Monthly Athletic Boosters Meeting
DESCRIPTION:Check with Paige Hawkins regarding location. Some meetings are virtual\, some are on the school campus.
URL:https://mlwgs.com/event/monthly-athletic-boosters-meeting-2/
CATEGORIES:PTSA/Boosters Function
ATTACH;FMTTYPE=image/jpeg:https://mlwgs.com/wp-content/uploads/2024/07/mag-default-image.jpg
ORGANIZER;CN="Ms. Paige Hawkins":MAILTO:phawkins@gsgis.k12.va.us
END:VEVENT
BEGIN:VEVENT
DTSTART;TZID=America/New_York:20251023T105000
DTEND;TZID=America/New_York:20251023T121500
DTSTAMP:20260424T123739
CREATED:20251008T193747Z
LAST-MODIFIED:20251008T193747Z
UID:10007334-1761216600-1761221700@mlwgs.com
SUMMARY:PTSA Sponsored Community Service Fair (Cafeteria)
DESCRIPTION:
URL:https://mlwgs.com/event/ptsa-sponsored-community-service-fair-cafeteria/
LOCATION:MLWGS Cafeteria
CATEGORIES:PTSA/Boosters Function
ATTACH;FMTTYPE=image/jpeg:https://mlwgs.com/wp-content/uploads/2024/07/mag-default-image.jpg
ORGANIZER;CN="Mr. Les Cook":MAILTO:tcook@gsgis.k12.va.us
END:VEVENT
END:VCALENDAR