BEGIN:VCALENDAR
VERSION:2.0
PRODID:-//Maggie L. Walker Governor&#039;s School - ECPv6.15.17.1//NONSGML v1.0//EN
CALSCALE:GREGORIAN
METHOD:PUBLISH
X-WR-CALNAME:Maggie L. Walker Governor&#039;s School
X-ORIGINAL-URL:https://mlwgs.com
X-WR-CALDESC:Events for Maggie L. Walker Governor&#039;s School
REFRESH-INTERVAL;VALUE=DURATION:PT1H
X-Robots-Tag:noindex
X-PUBLISHED-TTL:PT1H
BEGIN:VTIMEZONE
TZID:America/New_York
BEGIN:DAYLIGHT
TZOFFSETFROM:-0500
TZOFFSETTO:-0400
TZNAME:EDT
DTSTART:20250309T070000
END:DAYLIGHT
BEGIN:STANDARD
TZOFFSETFROM:-0400
TZOFFSETTO:-0500
TZNAME:EST
DTSTART:20251102T060000
END:STANDARD
BEGIN:DAYLIGHT
TZOFFSETFROM:-0500
TZOFFSETTO:-0400
TZNAME:EDT
DTSTART:20260308T070000
END:DAYLIGHT
BEGIN:STANDARD
TZOFFSETFROM:-0400
TZOFFSETTO:-0500
TZNAME:EST
DTSTART:20261101T060000
END:STANDARD
BEGIN:DAYLIGHT
TZOFFSETFROM:-0500
TZOFFSETTO:-0400
TZNAME:EDT
DTSTART:20270314T070000
END:DAYLIGHT
BEGIN:STANDARD
TZOFFSETFROM:-0400
TZOFFSETTO:-0500
TZNAME:EST
DTSTART:20271107T060000
END:STANDARD
END:VTIMEZONE
BEGIN:VEVENT
DTSTART;TZID=America/New_York:20260604T090000
DTEND;TZID=America/New_York:20260604T093000
DTSTAMP:20260426T001651
CREATED:20260108T163642Z
LAST-MODIFIED:20260108T163642Z
UID:10007481-1780563600-1780565400@mlwgs.com
SUMMARY:Virtual Finance Committee Mtg.
DESCRIPTION:
URL:https://mlwgs.com/event/virtual-finance-committee-mtg/2026-06-04/
CATEGORIES:Regional School Board
ATTACH;FMTTYPE=image/jpeg:https://mlwgs.com/wp-content/uploads/2024/07/mag-default-image.jpg
ORGANIZER;CN="Ms Barbara Marshall":MAILTO:bmarshall@gsgis.k12.va.us
END:VEVENT
BEGIN:VEVENT
DTSTART;TZID=America/New_York:20260610T140000
DTEND;TZID=America/New_York:20260610T170000
DTSTAMP:20260426T001651
CREATED:20251205T182855Z
LAST-MODIFIED:20251205T182855Z
UID:10007445-1781100000-1781110800@mlwgs.com
SUMMARY:Hold for RSB Meeting Set-Up (Rm 153)
DESCRIPTION:
URL:https://mlwgs.com/event/hold-for-rsb-meeting-set-up-rm-153/2026-06-10/
LOCATION:MLWGS Room 153
CATEGORIES:Regional School Board
ATTACH;FMTTYPE=image/jpeg:https://mlwgs.com/wp-content/uploads/2024/07/mag-default-image.jpg
ORGANIZER;CN="Ms Barbara Marshall":MAILTO:bmarshall@gsgis.k12.va.us
END:VEVENT
BEGIN:VEVENT
DTSTART;TZID=America/New_York:20260611T080000
DTEND;TZID=America/New_York:20260611T120000
DTSTAMP:20260426T001651
CREATED:20250603T133143Z
LAST-MODIFIED:20260116T153737Z
UID:10004603-1781164800-1781179200@mlwgs.com
SUMMARY:Executive School Board Meeting (Rm 153)
DESCRIPTION:
URL:https://mlwgs.com/event/hold-for-rsb-rm-153-2/
LOCATION:MLWGS Room 153
CATEGORIES:Regional School Board
ATTACH;FMTTYPE=image/jpeg:https://mlwgs.com/wp-content/uploads/2024/07/mag-default-image.jpg
ORGANIZER;CN="Ms Barbara Marshall":MAILTO:bmarshall@gsgis.k12.va.us
END:VEVENT
END:VCALENDAR