BEGIN:VCALENDAR
VERSION:2.0
PRODID:-//Maggie L. Walker Governor&#039;s School - ECPv6.15.17.1//NONSGML v1.0//EN
CALSCALE:GREGORIAN
METHOD:PUBLISH
X-WR-CALNAME:Maggie L. Walker Governor&#039;s School
X-ORIGINAL-URL:https://mlwgs.com
X-WR-CALDESC:Events for Maggie L. Walker Governor&#039;s School
REFRESH-INTERVAL;VALUE=DURATION:PT1H
X-Robots-Tag:noindex
X-PUBLISHED-TTL:PT1H
BEGIN:VTIMEZONE
TZID:America/New_York
BEGIN:DAYLIGHT
TZOFFSETFROM:-0500
TZOFFSETTO:-0400
TZNAME:EDT
DTSTART:20230312T070000
END:DAYLIGHT
BEGIN:STANDARD
TZOFFSETFROM:-0400
TZOFFSETTO:-0500
TZNAME:EST
DTSTART:20231105T060000
END:STANDARD
BEGIN:DAYLIGHT
TZOFFSETFROM:-0500
TZOFFSETTO:-0400
TZNAME:EDT
DTSTART:20240310T070000
END:DAYLIGHT
BEGIN:STANDARD
TZOFFSETFROM:-0400
TZOFFSETTO:-0500
TZNAME:EST
DTSTART:20241103T060000
END:STANDARD
BEGIN:DAYLIGHT
TZOFFSETFROM:-0500
TZOFFSETTO:-0400
TZNAME:EDT
DTSTART:20250309T070000
END:DAYLIGHT
BEGIN:STANDARD
TZOFFSETFROM:-0400
TZOFFSETTO:-0500
TZNAME:EST
DTSTART:20251102T060000
END:STANDARD
END:VTIMEZONE
BEGIN:VEVENT
DTSTART;TZID=America/New_York:20240510T180000
DTEND;TZID=America/New_York:20240510T200000
DTSTAMP:20260421T203327
CREATED:20240627T153456Z
LAST-MODIFIED:20240627T153456Z
UID:10000150-1715364000-1715371200@mlwgs.com
SUMMARY:Senior Art Exhibition at Artworks Gallery
DESCRIPTION:The show highlights the works of eight talented seniors\, including:\nKristin Bishop\nLucie Bouton\nSyndey Brewer\nYeeva Chunnanond\nRachel Dai\nSadie Hall\nIzzy List\nLambrini Phillos \nCome meet these young artists and witness art so great it will leave you on cloud nine. This year’s senior show will be open through May 18th at ArtWorks Gallery Richmond\, 320 Hull St. Richmond\, VA. Buckle up\, because we hope to see you in flight!”
URL:https://mlwgs.com/event/senior-art-exhibition-at-artworks-gallery/
CATEGORIES:Senior Activity
ATTACH;FMTTYPE=image/jpeg:https://mlwgs.com/wp-content/uploads/2024/07/mag-default-image.jpg
END:VEVENT
BEGIN:VEVENT
DTSTART;TZID=America/New_York:20240513T124000
DTEND;TZID=America/New_York:20240513T125500
DTSTAMP:20260421T203327
CREATED:20240627T153540Z
LAST-MODIFIED:20240627T153540Z
UID:10000163-1715604000-1715604900@mlwgs.com
SUMMARY:Senior Class College T-shirt Photograph (Lombardy Grand Stairs)
DESCRIPTION:
URL:https://mlwgs.com/event/senior-class-college-t-shirt-photograph-lombardy-grand-stairs/
CATEGORIES:Senior Activity
ATTACH;FMTTYPE=image/jpeg:https://mlwgs.com/wp-content/uploads/2024/07/mag-default-image.jpg
END:VEVENT
BEGIN:VEVENT
DTSTART;TZID=America/New_York:20240513T130000
DTEND;TZID=America/New_York:20240513T140000
DTSTAMP:20260421T203327
CREATED:20240627T153055Z
LAST-MODIFIED:20240627T153055Z
UID:10000067-1715605200-1715608800@mlwgs.com
SUMMARY:Senior Awards Assembly (Auditorium)
DESCRIPTION:Sponsor: Ms. Forquer \nThe Senior Awards Assembly will be held in the MLWGS Auditorium on Monday\, May 13 at 1PM.  \n \nHere is how we hope the day unfolds…\n \n-We’re hoping that the AP Calc exam will conclude by 12:30PM…there could be some exceptions.  \n \n-At 12:40PM\, seniors will be photographed (wearing college shirts) on the steps facing Lombardy.\n \n-At 12:50PM\, seniors will be dismissed from the steps to the (front seats) of the Auditorium.\n \n-At 12:55PM\, an announcement will be made to dismiss 9th graders (with their belongings) to the (back rows) of the Auditorium; they will observe the Senior Awards Assembly.\n \n-The Senior Awards Assembly will run from 1PM to approximately 1:42PM.\n \n-Around 1:42PM\, freshmen will be released from the Auditorium to 7th block class.\n \n-Soon after arriving to 7th block\, an announcement will be made to dismiss 11th graders to the (front seats of the) Auditorium; their belongings should remain in 7th block.  \n \n-Around 2PM\, an announcement will be made to dismiss 10th graders to the (back rows of the) Auditorium; they will observe the distribution of Junior Book Awards\, and their belongings should stay back in their 7th block classroom.\n \n \n \n\n-We expect the Junior Awards Books Assembly to end at 2:45PM—10th and 11th graders will be dismissed to their 7th block classrooms at that time.
URL:https://mlwgs.com/event/senior-awards-assembly-auditorium/
CATEGORIES:Senior Activity
ATTACH;FMTTYPE=image/jpeg:https://mlwgs.com/wp-content/uploads/2024/07/mag-default-image.jpg
END:VEVENT
BEGIN:VEVENT
DTSTART;TZID=America/New_York:20240518T190000
DTEND;TZID=America/New_York:20240518T220000
DTSTAMP:20260421T203327
CREATED:20240627T153041Z
LAST-MODIFIED:20240627T153041Z
UID:10000065-1716058800-1716069600@mlwgs.com
SUMMARY:Junior/Senior Prom at The Hippodrome Theater
DESCRIPTION:Ms. Maxey\, sponsor.
URL:https://mlwgs.com/event/junior-senior-prom-at-the-hippodrome-theater/
CATEGORIES:Senior Activity
ATTACH;FMTTYPE=image/jpeg:https://mlwgs.com/wp-content/uploads/2024/07/mag-default-image.jpg
END:VEVENT
BEGIN:VEVENT
DTSTART;TZID=America/New_York:20240522T190000
DTEND;TZID=America/New_York:20240522T210000
DTSTAMP:20260421T203327
CREATED:20240627T152925Z
LAST-MODIFIED:20240627T152925Z
UID:10000038-1716404400-1716411600@mlwgs.com
SUMMARY:Senior Recognition Night (Auditorium)
DESCRIPTION:
URL:https://mlwgs.com/event/senior-recognition-night-auditorium/
CATEGORIES:Senior Activity
ATTACH;FMTTYPE=image/jpeg:https://mlwgs.com/wp-content/uploads/2024/07/mag-default-image.jpg
END:VEVENT
BEGIN:VEVENT
DTSTART;TZID=America/New_York:20240524T084000
DTEND;TZID=America/New_York:20240524T151500
DTSTAMP:20260421T203327
CREATED:20240627T152752Z
LAST-MODIFIED:20240627T152752Z
UID:10000005-1716540000-1716563700@mlwgs.com
SUMMARY:Senior Showcase
DESCRIPTION:
URL:https://mlwgs.com/event/senior-showcase/
CATEGORIES:Senior Activity
ATTACH;FMTTYPE=image/jpeg:https://mlwgs.com/wp-content/uploads/2024/07/mag-default-image.jpg
END:VEVENT
BEGIN:VEVENT
DTSTART;TZID=America/New_York:20240528T190000
DTEND;TZID=America/New_York:20240528T203000
DTSTAMP:20260421T203327
CREATED:20240627T153026Z
LAST-MODIFIED:20240627T153026Z
UID:10000059-1716922800-1716928200@mlwgs.com
SUMMARY:Class of 2024 Baccalaureate (Off Campus)
DESCRIPTION:Reveille United Methodist Church – 4200 Cary Street Road
URL:https://mlwgs.com/event/class-of-2024-baccalaureate-off-campus/
CATEGORIES:Senior Activity
ATTACH;FMTTYPE=image/jpeg:https://mlwgs.com/wp-content/uploads/2024/07/mag-default-image.jpg
END:VEVENT
BEGIN:VEVENT
DTSTART;TZID=America/New_York:20240529T144500
DTEND;TZID=America/New_York:20240529T160000
DTSTAMP:20260421T203327
CREATED:20240627T152810Z
LAST-MODIFIED:20240627T152810Z
UID:10000011-1716993900-1716998400@mlwgs.com
SUMMARY:Graduation Practice (Altria Theater)
DESCRIPTION:Altria Theater (6N. Laurel Street)
URL:https://mlwgs.com/event/graduation-practice-altria-theater/
CATEGORIES:Senior Activity
ATTACH;FMTTYPE=image/jpeg:https://mlwgs.com/wp-content/uploads/2024/07/mag-default-image.jpg
END:VEVENT
BEGIN:VEVENT
DTSTART;TZID=America/New_York:20240529T180000
DTEND;TZID=America/New_York:20240529T200000
DTSTAMP:20260421T203327
CREATED:20240627T152926Z
LAST-MODIFIED:20240627T152926Z
UID:10000039-1717005600-1717012800@mlwgs.com
SUMMARY:Graduation for the Class of 2024 (Altria Theater)
DESCRIPTION:
URL:https://mlwgs.com/event/graduation-for-the-class-of-2024-altria-theater/
CATEGORIES:Senior Activity
ATTACH;FMTTYPE=image/jpeg:https://mlwgs.com/wp-content/uploads/2024/07/mag-default-image.jpg
END:VEVENT
BEGIN:VEVENT
DTSTART;TZID=America/New_York:20240530T120000
DTEND;TZID=America/New_York:20240530T143000
DTSTAMP:20260421T203327
CREATED:20240627T153111Z
LAST-MODIFIED:20240627T153111Z
UID:10000075-1717070400-1717079400@mlwgs.com
SUMMARY:Senior Picnic at the Carillon Shelter\, Byrd Park
DESCRIPTION:Ms. Love
URL:https://mlwgs.com/event/senior-picnic-at-the-carillon-shelter-byrd-park/
CATEGORIES:Senior Activity
ATTACH;FMTTYPE=image/jpeg:https://mlwgs.com/wp-content/uploads/2024/07/mag-default-image.jpg
END:VEVENT
END:VCALENDAR