BEGIN:VCALENDAR
VERSION:2.0
PRODID:-//Maggie L. Walker Governor&#039;s School - ECPv6.15.17.1//NONSGML v1.0//EN
CALSCALE:GREGORIAN
METHOD:PUBLISH
X-WR-CALNAME:Maggie L. Walker Governor&#039;s School
X-ORIGINAL-URL:https://mlwgs.com
X-WR-CALDESC:Events for Maggie L. Walker Governor&#039;s School
REFRESH-INTERVAL;VALUE=DURATION:PT1H
X-Robots-Tag:noindex
X-PUBLISHED-TTL:PT1H
BEGIN:VTIMEZONE
TZID:America/New_York
BEGIN:DAYLIGHT
TZOFFSETFROM:-0500
TZOFFSETTO:-0400
TZNAME:EDT
DTSTART:20230312T070000
END:DAYLIGHT
BEGIN:STANDARD
TZOFFSETFROM:-0400
TZOFFSETTO:-0500
TZNAME:EST
DTSTART:20231105T060000
END:STANDARD
BEGIN:DAYLIGHT
TZOFFSETFROM:-0500
TZOFFSETTO:-0400
TZNAME:EDT
DTSTART:20240310T070000
END:DAYLIGHT
BEGIN:STANDARD
TZOFFSETFROM:-0400
TZOFFSETTO:-0500
TZNAME:EST
DTSTART:20241103T060000
END:STANDARD
BEGIN:DAYLIGHT
TZOFFSETFROM:-0500
TZOFFSETTO:-0400
TZNAME:EDT
DTSTART:20250309T070000
END:DAYLIGHT
BEGIN:STANDARD
TZOFFSETFROM:-0400
TZOFFSETTO:-0500
TZNAME:EST
DTSTART:20251102T060000
END:STANDARD
END:VTIMEZONE
BEGIN:VEVENT
DTSTART;TZID=America/New_York:20240513T124000
DTEND;TZID=America/New_York:20240513T125500
DTSTAMP:20260421T220132
CREATED:20240627T153540Z
LAST-MODIFIED:20240627T153540Z
UID:10000163-1715604000-1715604900@mlwgs.com
SUMMARY:Senior Class College T-shirt Photograph (Lombardy Grand Stairs)
DESCRIPTION:
URL:https://mlwgs.com/event/senior-class-college-t-shirt-photograph-lombardy-grand-stairs/
CATEGORIES:Senior Activity
ATTACH;FMTTYPE=image/jpeg:https://mlwgs.com/wp-content/uploads/2024/07/mag-default-image.jpg
END:VEVENT
BEGIN:VEVENT
DTSTART;TZID=America/New_York:20240513T130000
DTEND;TZID=America/New_York:20240513T140000
DTSTAMP:20260421T220132
CREATED:20240627T153055Z
LAST-MODIFIED:20240627T153055Z
UID:10000067-1715605200-1715608800@mlwgs.com
SUMMARY:Senior Awards Assembly (Auditorium)
DESCRIPTION:Sponsor: Ms. Forquer \nThe Senior Awards Assembly will be held in the MLWGS Auditorium on Monday\, May 13 at 1PM.  \n \nHere is how we hope the day unfolds…\n \n-We’re hoping that the AP Calc exam will conclude by 12:30PM…there could be some exceptions.  \n \n-At 12:40PM\, seniors will be photographed (wearing college shirts) on the steps facing Lombardy.\n \n-At 12:50PM\, seniors will be dismissed from the steps to the (front seats) of the Auditorium.\n \n-At 12:55PM\, an announcement will be made to dismiss 9th graders (with their belongings) to the (back rows) of the Auditorium; they will observe the Senior Awards Assembly.\n \n-The Senior Awards Assembly will run from 1PM to approximately 1:42PM.\n \n-Around 1:42PM\, freshmen will be released from the Auditorium to 7th block class.\n \n-Soon after arriving to 7th block\, an announcement will be made to dismiss 11th graders to the (front seats of the) Auditorium; their belongings should remain in 7th block.  \n \n-Around 2PM\, an announcement will be made to dismiss 10th graders to the (back rows of the) Auditorium; they will observe the distribution of Junior Book Awards\, and their belongings should stay back in their 7th block classroom.\n \n \n \n\n-We expect the Junior Awards Books Assembly to end at 2:45PM—10th and 11th graders will be dismissed to their 7th block classrooms at that time.
URL:https://mlwgs.com/event/senior-awards-assembly-auditorium/
CATEGORIES:Senior Activity
ATTACH;FMTTYPE=image/jpeg:https://mlwgs.com/wp-content/uploads/2024/07/mag-default-image.jpg
END:VEVENT
END:VCALENDAR