BEGIN:VCALENDAR
VERSION:2.0
PRODID:-//Maggie L. Walker Governor&#039;s School - ECPv6.15.17.1//NONSGML v1.0//EN
CALSCALE:GREGORIAN
METHOD:PUBLISH
X-WR-CALNAME:Maggie L. Walker Governor&#039;s School
X-ORIGINAL-URL:https://mlwgs.com
X-WR-CALDESC:Events for Maggie L. Walker Governor&#039;s School
REFRESH-INTERVAL;VALUE=DURATION:PT1H
X-Robots-Tag:noindex
X-PUBLISHED-TTL:PT1H
BEGIN:VTIMEZONE
TZID:America/New_York
BEGIN:DAYLIGHT
TZOFFSETFROM:-0500
TZOFFSETTO:-0400
TZNAME:EDT
DTSTART:20240310T070000
END:DAYLIGHT
BEGIN:STANDARD
TZOFFSETFROM:-0400
TZOFFSETTO:-0500
TZNAME:EST
DTSTART:20241103T060000
END:STANDARD
BEGIN:DAYLIGHT
TZOFFSETFROM:-0500
TZOFFSETTO:-0400
TZNAME:EDT
DTSTART:20250309T070000
END:DAYLIGHT
BEGIN:STANDARD
TZOFFSETFROM:-0400
TZOFFSETTO:-0500
TZNAME:EST
DTSTART:20251102T060000
END:STANDARD
BEGIN:DAYLIGHT
TZOFFSETFROM:-0500
TZOFFSETTO:-0400
TZNAME:EDT
DTSTART:20260308T070000
END:DAYLIGHT
BEGIN:STANDARD
TZOFFSETFROM:-0400
TZOFFSETTO:-0500
TZNAME:EST
DTSTART:20261101T060000
END:STANDARD
END:VTIMEZONE
BEGIN:VEVENT
DTSTART;TZID=America/New_York:20250519T154500
DTEND;TZID=America/New_York:20250519T170000
DTSTAMP:20260421T091220
CREATED:20250428T192457Z
LAST-MODIFIED:20250428T192616Z
UID:10004470-1747669500-1747674000@mlwgs.com
SUMMARY:NCAA Athletic Signing Day (Forum)
DESCRIPTION:
URL:https://mlwgs.com/event/ncaa-athletic-signing-day-forum-2/
LOCATION:MLWGS Forum
CATEGORIES:Senior Activity
ATTACH;FMTTYPE=image/jpeg:https://mlwgs.com/wp-content/uploads/2024/07/mag-default-image.jpg
ORGANIZER;CN="Ms. Paige Hawkins":MAILTO:phawkins@gsgis.k12.va.us
END:VEVENT
BEGIN:VEVENT
DTSTART;TZID=America/New_York:20250519T190000
DTEND;TZID=America/New_York:20250519T210000
DTSTAMP:20260421T091220
CREATED:20240913T190947Z
LAST-MODIFIED:20240913T190947Z
UID:10003273-1747681200-1747688400@mlwgs.com
SUMMARY:Senior Recognition Night (Auditorium)
DESCRIPTION:
URL:https://mlwgs.com/event/senior-recognition-night-auditorium-2/
LOCATION:MLWGS Auditorium
CATEGORIES:Senior Activity
ATTACH;FMTTYPE=image/png:https://mlwgs.com/wp-content/uploads/2024/09/cropped-mw-logo-green.png
ORGANIZER;CN="Ms. Kara Love":MAILTO:klove@gsgis.k12.va.us
END:VEVENT
END:VCALENDAR