BEGIN:VCALENDAR
VERSION:2.0
PRODID:-//Maggie L. Walker Governor&#039;s School - ECPv6.15.17.1//NONSGML v1.0//EN
CALSCALE:GREGORIAN
METHOD:PUBLISH
X-WR-CALNAME:Maggie L. Walker Governor&#039;s School
X-ORIGINAL-URL:https://mlwgs.com
X-WR-CALDESC:Events for Maggie L. Walker Governor&#039;s School
REFRESH-INTERVAL;VALUE=DURATION:PT1H
X-Robots-Tag:noindex
X-PUBLISHED-TTL:PT1H
BEGIN:VTIMEZONE
TZID:America/New_York
BEGIN:DAYLIGHT
TZOFFSETFROM:-0500
TZOFFSETTO:-0400
TZNAME:EDT
DTSTART:20240310T070000
END:DAYLIGHT
BEGIN:STANDARD
TZOFFSETFROM:-0400
TZOFFSETTO:-0500
TZNAME:EST
DTSTART:20241103T060000
END:STANDARD
BEGIN:DAYLIGHT
TZOFFSETFROM:-0500
TZOFFSETTO:-0400
TZNAME:EDT
DTSTART:20250309T070000
END:DAYLIGHT
BEGIN:STANDARD
TZOFFSETFROM:-0400
TZOFFSETTO:-0500
TZNAME:EST
DTSTART:20251102T060000
END:STANDARD
BEGIN:DAYLIGHT
TZOFFSETFROM:-0500
TZOFFSETTO:-0400
TZNAME:EDT
DTSTART:20260308T070000
END:DAYLIGHT
BEGIN:STANDARD
TZOFFSETFROM:-0400
TZOFFSETTO:-0500
TZNAME:EST
DTSTART:20261101T060000
END:STANDARD
END:VTIMEZONE
BEGIN:VEVENT
DTSTART;TZID=America/New_York:20250527T143000
DTEND;TZID=America/New_York:20250527T180000
DTSTAMP:20260421T042311
CREATED:20250505T192444Z
LAST-MODIFIED:20250505T192444Z
UID:10004488-1748356200-1748368800@mlwgs.com
SUMMARY:Graduation Practice for Seniors (Dominion Center)
DESCRIPTION:
URL:https://mlwgs.com/event/graduation-practice-for-seniors-dominion-center/
CATEGORIES:Senior Activity
ATTACH;FMTTYPE=image/jpeg:https://mlwgs.com/wp-content/uploads/2024/07/mag-default-image.jpg
ORGANIZER;CN="Ms. Kara Love":MAILTO:klove@gsgis.k12.va.us
END:VEVENT
BEGIN:VEVENT
DTSTART;TZID=America/New_York:20250527T180000
DTEND;TZID=America/New_York:20250527T200000
DTSTAMP:20260421T042311
CREATED:20240930T122930Z
LAST-MODIFIED:20250320T162808Z
UID:10003337-1748368800-1748376000@mlwgs.com
SUMMARY:Graduation for the Class of 2025 (Dominion Energy Center-Carpenter Theater)
DESCRIPTION:The exterior doors to the building will be open to families and friends between 5-5:30.  The doors to the theater seats will not be opened until 5:30 pm.  All guests must produce a ticket and go through bag check and a metal detector before entering.  For organizational reasons\, the area used for line-up is off-limits to parents\, relatives\, and friends until after the ceremony; we appreciate your understanding.   Accessibility seating is available on both floors of the theater\, and ushers will be available in the lobby to assist families. \nCap\, gown\, and tassel are the most required items for the day\, but students are asked to dress appropriately: dark dress pants\, collared shirts with ties\, skirts\, or dresses. Students may wear cords earned as part of their membership in our Honor Societies (as has been our custom). They may also select one piece of additional pre-approved regalia\, which they have earned as a member of an enduring MLWGS organization. All pieces of regalia will be distributed by sponsors in the days leading up to graduation. \nPerhaps the most important clothing decision for the day\, however\, is shoes. Remember\, you are walking up and down steps and across a long stage. Dress shoes with socks or low-heeled dress shoes are the most appropriate; “flip-flops” and athletic shoes are not permitted. \nGuests are permitted to bring flowers inside the theater\, but please no balloons or noise makers.
URL:https://mlwgs.com/event/graduation-for-the-class-of-2025-carpenter-theater-time-may-be-adjusted-closer-to-event/
CATEGORIES:Senior Activity
ATTACH;FMTTYPE=image/jpeg:https://mlwgs.com/wp-content/uploads/2024/07/mag-default-image.jpg
ORGANIZER;CN="Ms. Kerry Sheppard":MAILTO:ksheppard@gsgis.k12.va.us
END:VEVENT
BEGIN:VEVENT
DTSTART;TZID=America/New_York:20250528T120000
DTEND;TZID=America/New_York:20250528T140000
DTSTAMP:20260421T042311
CREATED:20250225T221930Z
LAST-MODIFIED:20250225T221930Z
UID:10004294-1748433600-1748440800@mlwgs.com
SUMMARY:The Class of 2025's First Alumni Event: Picnic at the Carillon Shelter at Byrd Park
DESCRIPTION:
URL:https://mlwgs.com/event/the-class-of-2025s-first-alumni-event-picnic-at-the-carillon-shelter-at-byrd-park/
CATEGORIES:Senior Activity
ATTACH;FMTTYPE=image/jpeg:https://mlwgs.com/wp-content/uploads/2024/07/mag-default-image.jpg
ORGANIZER;CN="Ms. Kara Love":MAILTO:klove@gsgis.k12.va.us
END:VEVENT
END:VCALENDAR