BEGIN:VCALENDAR
VERSION:2.0
PRODID:-//Maggie L. Walker Governor&#039;s School - ECPv6.15.17.1//NONSGML v1.0//EN
CALSCALE:GREGORIAN
METHOD:PUBLISH
X-WR-CALNAME:Maggie L. Walker Governor&#039;s School
X-ORIGINAL-URL:https://mlwgs.com
X-WR-CALDESC:Events for Maggie L. Walker Governor&#039;s School
REFRESH-INTERVAL;VALUE=DURATION:PT1H
X-Robots-Tag:noindex
X-PUBLISHED-TTL:PT1H
BEGIN:VTIMEZONE
TZID:America/New_York
BEGIN:DAYLIGHT
TZOFFSETFROM:-0500
TZOFFSETTO:-0400
TZNAME:EDT
DTSTART:20240310T070000
END:DAYLIGHT
BEGIN:STANDARD
TZOFFSETFROM:-0400
TZOFFSETTO:-0500
TZNAME:EST
DTSTART:20241103T060000
END:STANDARD
BEGIN:DAYLIGHT
TZOFFSETFROM:-0500
TZOFFSETTO:-0400
TZNAME:EDT
DTSTART:20250309T070000
END:DAYLIGHT
BEGIN:STANDARD
TZOFFSETFROM:-0400
TZOFFSETTO:-0500
TZNAME:EST
DTSTART:20251102T060000
END:STANDARD
BEGIN:DAYLIGHT
TZOFFSETFROM:-0500
TZOFFSETTO:-0400
TZNAME:EDT
DTSTART:20260308T070000
END:DAYLIGHT
BEGIN:STANDARD
TZOFFSETFROM:-0400
TZOFFSETTO:-0500
TZNAME:EST
DTSTART:20261101T060000
END:STANDARD
END:VTIMEZONE
BEGIN:VEVENT
DTSTART;TZID=America/New_York:20250326T000000
DTEND;TZID=America/New_York:20250404T235959
DTSTAMP:20260420T042136
CREATED:20241017T161739Z
LAST-MODIFIED:20250116T181010Z
UID:10003375-1742947200-1743811199@mlwgs.com
SUMMARY:MENA International Trip to Morocco
DESCRIPTION:Sponsor: Robinette Cross
URL:https://mlwgs.com/event/mena-international-trip-to-morocco/
CATEGORIES:International Travel
ATTACH;FMTTYPE=image/jpeg:https://mlwgs.com/wp-content/uploads/2024/07/mag-default-image.jpg
ORGANIZER;CN="Ms. Robinette Cross":MAILTO:rcross@gsgis.k12.va.is
END:VEVENT
BEGIN:VEVENT
DTSTART;TZID=America/New_York:20250327T000000
DTEND;TZID=America/New_York:20250330T235959
DTSTAMP:20260420T042136
CREATED:20250318T171057Z
LAST-MODIFIED:20250318T171057Z
UID:10004383-1743033600-1743379199@mlwgs.com
SUMMARY:Baseball Seminar to Cooperstown\, NY (Off Campus)
DESCRIPTION:Dickson Benesh
URL:https://mlwgs.com/event/baseball-seminar-to-cooperstown-ny-off-campus/
CATEGORIES:Field Trip
ATTACH;FMTTYPE=image/jpeg:https://mlwgs.com/wp-content/uploads/2024/07/mag-default-image.jpg
END:VEVENT
BEGIN:VEVENT
DTSTART;TZID=America/New_York:20250329T000000
DTEND;TZID=America/New_York:20250404T235959
DTSTAMP:20260420T042136
CREATED:20241017T160630Z
LAST-MODIFIED:20241017T160630Z
UID:10003373-1743206400-1743811199@mlwgs.com
SUMMARY:Power of Story International Trip
DESCRIPTION:Sponsor: Lindsey Lecroy-Whitworth
URL:https://mlwgs.com/event/power-of-story-international-trip/
CATEGORIES:International Travel
ATTACH;FMTTYPE=image/jpeg:https://mlwgs.com/wp-content/uploads/2024/07/mag-default-image.jpg
END:VEVENT
BEGIN:VEVENT
DTSTART;TZID=America/New_York:20250330T120000
DTEND;TZID=America/New_York:20250330T170000
DTSTAMP:20260420T042136
CREATED:20241204T140634Z
LAST-MODIFIED:20241204T140634Z
UID:10003658-1743336000-1743354000@mlwgs.com
SUMMARY:Mech Tech Dragons Meeting (Commons & Rm 112)
DESCRIPTION:
URL:https://mlwgs.com/event/mech-tech-dragons-meeting-commons-rm-112/2025-03-30/
CATEGORIES:Club Activity
ATTACH;FMTTYPE=image/jpeg:https://mlwgs.com/wp-content/uploads/2024/07/mag-default-image.jpg
ORGANIZER;CN="Mr. Mark Sailer":MAILTO:msailer@gsgis.k12.va.us
END:VEVENT
BEGIN:VEVENT
DTSTART;TZID=America/New_York:20250331T000000
DTEND;TZID=America/New_York:20250331T235900
DTSTAMP:20260420T042136
CREATED:20240627T153541Z
LAST-MODIFIED:20240627T153541Z
UID:10000164-1743379200-1743465540@mlwgs.com
SUMMARY:FIRST Robotics Day in Virginia
DESCRIPTION:Championed by the Mech Tech Dragons in 2024\nhttps://www.richmondsunlight.com/bill/2024/sj48/fulltext/
URL:https://mlwgs.com/event/first-robotics-day-in-virginia/
CATEGORIES:Club Activity
ATTACH;FMTTYPE=image/jpeg:https://mlwgs.com/wp-content/uploads/2024/07/mag-default-image.jpg
END:VEVENT
BEGIN:VEVENT
DTSTART;TZID=America/New_York:20250331T000000
DTEND;TZID=America/New_York:20250331T235959
DTSTAMP:20260420T042136
CREATED:20240627T153326Z
LAST-MODIFIED:20240730T161455Z
UID:10000120-1743379200-1743465599@mlwgs.com
SUMMARY:Spring Break
DESCRIPTION:
URL:https://mlwgs.com/event/spring-break/2025-03-31/
CATEGORIES:Holiday
ATTACH;FMTTYPE=image/jpeg:https://mlwgs.com/wp-content/uploads/2024/07/logo_color-1.jpg
END:VEVENT
BEGIN:VEVENT
DTSTART;TZID=America/New_York:20250331T000000
DTEND;TZID=America/New_York:20250403T235959
DTSTAMP:20260420T042136
CREATED:20250311T191540Z
LAST-MODIFIED:20250311T191540Z
UID:10004357-1743379200-1743724799@mlwgs.com
SUMMARY:School Office Open M-Thur During Spring Break
DESCRIPTION:
URL:https://mlwgs.com/event/school-office-open-m-thur-during-spring-break/
CATEGORIES:Holiday
ATTACH;FMTTYPE=image/jpeg:https://mlwgs.com/wp-content/uploads/2024/07/mag-default-image.jpg
END:VEVENT
BEGIN:VEVENT
DTSTART;TZID=America/New_York:20250331T163000
DTEND;TZID=America/New_York:20250331T190000
DTSTAMP:20260420T042136
CREATED:20241204T142806Z
LAST-MODIFIED:20250116T193339Z
UID:10003688-1743438600-1743447600@mlwgs.com
SUMMARY:Mech Tech Dragons Meeting (Commons & Rms 109\, 111 & 112)
DESCRIPTION:
URL:https://mlwgs.com/event/mech-tech-dragons-meeting-commons-rms-109-111-112/2025-03-31/
CATEGORIES:Club Activity
ATTACH;FMTTYPE=image/jpeg:https://mlwgs.com/wp-content/uploads/2024/07/mag-default-image.jpg
ORGANIZER;CN="Mr. Mark Sailer":MAILTO:msailer@gsgis.k12.va.us
END:VEVENT
BEGIN:VEVENT
DTSTART;TZID=America/New_York:20250401T000000
DTEND;TZID=America/New_York:20250401T235959
DTSTAMP:20260420T042136
CREATED:20240627T153326Z
LAST-MODIFIED:20240730T161455Z
UID:10002249-1743465600-1743551999@mlwgs.com
SUMMARY:Spring Break
DESCRIPTION:
URL:https://mlwgs.com/event/spring-break/2025-04-01/
CATEGORIES:Holiday
ATTACH;FMTTYPE=image/jpeg:https://mlwgs.com/wp-content/uploads/2024/07/logo_color-1.jpg
END:VEVENT
BEGIN:VEVENT
DTSTART;TZID=America/New_York:20250402T000000
DTEND;TZID=America/New_York:20250402T235959
DTSTAMP:20260420T042136
CREATED:20240627T153326Z
LAST-MODIFIED:20240730T161455Z
UID:10002250-1743552000-1743638399@mlwgs.com
SUMMARY:Spring Break
DESCRIPTION:
URL:https://mlwgs.com/event/spring-break/2025-04-02/
CATEGORIES:Holiday
ATTACH;FMTTYPE=image/jpeg:https://mlwgs.com/wp-content/uploads/2024/07/logo_color-1.jpg
END:VEVENT
BEGIN:VEVENT
DTSTART;TZID=America/New_York:20250403T000000
DTEND;TZID=America/New_York:20250403T235959
DTSTAMP:20260420T042136
CREATED:20240627T153326Z
LAST-MODIFIED:20240730T161455Z
UID:10002251-1743638400-1743724799@mlwgs.com
SUMMARY:Spring Break
DESCRIPTION:
URL:https://mlwgs.com/event/spring-break/2025-04-03/
CATEGORIES:Holiday
ATTACH;FMTTYPE=image/jpeg:https://mlwgs.com/wp-content/uploads/2024/07/logo_color-1.jpg
END:VEVENT
BEGIN:VEVENT
DTSTART;TZID=America/New_York:20250403T160000
DTEND;TZID=America/New_York:20250403T210000
DTSTAMP:20260420T042136
CREATED:20241204T143804Z
LAST-MODIFIED:20241204T143804Z
UID:10003741-1743696000-1743714000@mlwgs.com
SUMMARY:Robotics: District Championship (Off Campus)
DESCRIPTION:https://frc-events.firstinspires.org/2025/CHCMP
URL:https://mlwgs.com/event/robotics-district-championship-off-campus/2025-04-03/
CATEGORIES:Competition Event
ATTACH;FMTTYPE=image/jpeg:https://mlwgs.com/wp-content/uploads/2024/07/mag-default-image.jpg
ORGANIZER;CN="Mr. Mark Sailer":MAILTO:msailer@gsgis.k12.va.us
END:VEVENT
BEGIN:VEVENT
DTSTART;TZID=America/New_York:20250404T000000
DTEND;TZID=America/New_York:20250404T235959
DTSTAMP:20260420T042136
CREATED:20240627T153326Z
LAST-MODIFIED:20240730T161455Z
UID:10002252-1743724800-1743811199@mlwgs.com
SUMMARY:Spring Break
DESCRIPTION:
URL:https://mlwgs.com/event/spring-break/2025-04-04/
CATEGORIES:Holiday
ATTACH;FMTTYPE=image/jpeg:https://mlwgs.com/wp-content/uploads/2024/07/logo_color-1.jpg
END:VEVENT
BEGIN:VEVENT
DTSTART;TZID=America/New_York:20250404T000000
DTEND;TZID=America/New_York:20250406T235959
DTSTAMP:20260420T042136
CREATED:20241210T184722Z
LAST-MODIFIED:20241210T184722Z
UID:10003776-1743724800-1743983999@mlwgs.com
SUMMARY:Japan Bowl 2025 (Off Campus)
DESCRIPTION:Johns Hopkins School of Advanced International Studies (SAIS) in Washington D.C.
URL:https://mlwgs.com/event/japan-bowl-2025-off-campus/
CATEGORIES:Competition Event
ATTACH;FMTTYPE=image/jpeg:https://mlwgs.com/wp-content/uploads/2024/07/mag-default-image.jpg
ORGANIZER;CN="Ms. Yoko Eshita":MAILTO:yeshita@gsgis.k12.va.us
END:VEVENT
BEGIN:VEVENT
DTSTART;TZID=America/New_York:20250404T080000
DTEND;TZID=America/New_York:20250404T180000
DTSTAMP:20260420T042136
CREATED:20241204T143804Z
LAST-MODIFIED:20241204T143804Z
UID:10003742-1743753600-1743789600@mlwgs.com
SUMMARY:Robotics: District Championship (Off Campus)
DESCRIPTION:https://frc-events.firstinspires.org/2025/CHCMP
URL:https://mlwgs.com/event/robotics-district-championship-off-campus/2025-04-04/
CATEGORIES:Competition Event
ATTACH;FMTTYPE=image/jpeg:https://mlwgs.com/wp-content/uploads/2024/07/mag-default-image.jpg
ORGANIZER;CN="Mr. Mark Sailer":MAILTO:msailer@gsgis.k12.va.us
END:VEVENT
BEGIN:VEVENT
DTSTART;TZID=America/New_York:20250405T080000
DTEND;TZID=America/New_York:20250405T170000
DTSTAMP:20260420T042136
CREATED:20250303T191902Z
LAST-MODIFIED:20250303T191902Z
UID:10004320-1743840000-1743872400@mlwgs.com
SUMMARY:Debate Super-Regional (Off Campus)
DESCRIPTION:
URL:https://mlwgs.com/event/debate-super-regional-off-campus/
CATEGORIES:Competition Event
ATTACH;FMTTYPE=image/jpeg:https://mlwgs.com/wp-content/uploads/2024/07/mag-default-image.jpg
ORGANIZER;CN="Ms. Celie Boswell":MAILTO:cboswell@gsgis.k12.va.us
END:VEVENT
BEGIN:VEVENT
DTSTART;TZID=America/New_York:20250405T080000
DTEND;TZID=America/New_York:20250405T180000
DTSTAMP:20260420T042136
CREATED:20241204T143804Z
LAST-MODIFIED:20241204T143804Z
UID:10003743-1743840000-1743876000@mlwgs.com
SUMMARY:Robotics: District Championship (Off Campus)
DESCRIPTION:https://frc-events.firstinspires.org/2025/CHCMP
URL:https://mlwgs.com/event/robotics-district-championship-off-campus/2025-04-05/
CATEGORIES:Competition Event
ATTACH;FMTTYPE=image/jpeg:https://mlwgs.com/wp-content/uploads/2024/07/mag-default-image.jpg
ORGANIZER;CN="Mr. Mark Sailer":MAILTO:msailer@gsgis.k12.va.us
END:VEVENT
END:VCALENDAR