BEGIN:VCALENDAR
VERSION:2.0
PRODID:-//Maggie L. Walker Governor&#039;s School - ECPv6.15.17.1//NONSGML v1.0//EN
CALSCALE:GREGORIAN
METHOD:PUBLISH
X-WR-CALNAME:Maggie L. Walker Governor&#039;s School
X-ORIGINAL-URL:https://mlwgs.com
X-WR-CALDESC:Events for Maggie L. Walker Governor&#039;s School
REFRESH-INTERVAL;VALUE=DURATION:PT1H
X-Robots-Tag:noindex
X-PUBLISHED-TTL:PT1H
BEGIN:VTIMEZONE
TZID:America/New_York
BEGIN:DAYLIGHT
TZOFFSETFROM:-0500
TZOFFSETTO:-0400
TZNAME:EDT
DTSTART:20250309T070000
END:DAYLIGHT
BEGIN:STANDARD
TZOFFSETFROM:-0400
TZOFFSETTO:-0500
TZNAME:EST
DTSTART:20251102T060000
END:STANDARD
BEGIN:DAYLIGHT
TZOFFSETFROM:-0500
TZOFFSETTO:-0400
TZNAME:EDT
DTSTART:20260308T070000
END:DAYLIGHT
BEGIN:STANDARD
TZOFFSETFROM:-0400
TZOFFSETTO:-0500
TZNAME:EST
DTSTART:20261101T060000
END:STANDARD
BEGIN:DAYLIGHT
TZOFFSETFROM:-0500
TZOFFSETTO:-0400
TZNAME:EDT
DTSTART:20270314T070000
END:DAYLIGHT
BEGIN:STANDARD
TZOFFSETFROM:-0400
TZOFFSETTO:-0500
TZNAME:EST
DTSTART:20271107T060000
END:STANDARD
END:VTIMEZONE
BEGIN:VEVENT
DTSTART;TZID=America/New_York:20260615T000000
DTEND;TZID=America/New_York:20260619T235959
DTSTAMP:20260419T093426
CREATED:20250611T122303Z
LAST-MODIFIED:20250611T122303Z
UID:10005087-1781481600-1781913599@mlwgs.com
SUMMARY:Cadence Theatre Summer Camp
DESCRIPTION:
URL:https://mlwgs.com/event/cadence-theatre-summer-camp/
LOCATION:MLWGS\, 1000 N. Lombardy St.\, Richmond\, 23113\, United States
CATEGORIES:Building Activity-External Group
ATTACH;FMTTYPE=image/jpeg:https://mlwgs.com/wp-content/uploads/2024/07/mag-default-image.jpg
END:VEVENT
BEGIN:VEVENT
DTSTART;TZID=America/New_York:20260615T073000
DTEND;TZID=America/New_York:20260615T173000
DTSTAMP:20260419T093426
CREATED:20260220T155907Z
LAST-MODIFIED:20260220T155907Z
UID:10009490-1781508600-1781544600@mlwgs.com
SUMMARY:Summer Operating Hours (Mon-Thur)
DESCRIPTION:
URL:https://mlwgs.com/event/summer-operating-hours-mon-thur-2/2026-06-15/
ATTACH;FMTTYPE=image/jpeg:https://mlwgs.com/wp-content/uploads/2024/07/mag-default-image.jpg
END:VEVENT
BEGIN:VEVENT
DTSTART;TZID=America/New_York:20260616T000000
DTEND;TZID=America/New_York:20260616T235959
DTSTAMP:20260419T093426
CREATED:20260212T161949Z
LAST-MODIFIED:20260212T162023Z
UID:10009438-1781568000-1781654399@mlwgs.com
SUMMARY:TENTATIVE: June Primary Election
DESCRIPTION:Tentative as of 2-12-2026\nRooms 104 and 105
URL:https://mlwgs.com/event/tentative-june-primary-election/
LOCATION:MLWGS Room 104
CATEGORIES:Building Activity-External Group
ATTACH;FMTTYPE=image/jpeg:https://mlwgs.com/wp-content/uploads/2024/07/mag-default-image.jpg
END:VEVENT
BEGIN:VEVENT
DTSTART;TZID=America/New_York:20260616T073000
DTEND;TZID=America/New_York:20260616T173000
DTSTAMP:20260419T093426
CREATED:20260220T155907Z
LAST-MODIFIED:20260220T155907Z
UID:10009491-1781595000-1781631000@mlwgs.com
SUMMARY:Summer Operating Hours (Mon-Thur)
DESCRIPTION:
URL:https://mlwgs.com/event/summer-operating-hours-mon-thur-2/2026-06-16/
ATTACH;FMTTYPE=image/jpeg:https://mlwgs.com/wp-content/uploads/2024/07/mag-default-image.jpg
END:VEVENT
BEGIN:VEVENT
DTSTART;TZID=America/New_York:20260617T073000
DTEND;TZID=America/New_York:20260617T173000
DTSTAMP:20260419T093426
CREATED:20260220T155907Z
LAST-MODIFIED:20260220T155907Z
UID:10009492-1781681400-1781717400@mlwgs.com
SUMMARY:Summer Operating Hours (Mon-Thur)
DESCRIPTION:
URL:https://mlwgs.com/event/summer-operating-hours-mon-thur-2/2026-06-17/
ATTACH;FMTTYPE=image/jpeg:https://mlwgs.com/wp-content/uploads/2024/07/mag-default-image.jpg
END:VEVENT
BEGIN:VEVENT
DTSTART;TZID=America/New_York:20260618T000000
DTEND;TZID=America/New_York:20260618T235959
DTSTAMP:20260419T093426
CREATED:20250603T133043Z
LAST-MODIFIED:20260220T160002Z
UID:10005064-1781740800-1781827199@mlwgs.com
SUMMARY:Holiday - Closed
DESCRIPTION:
URL:https://mlwgs.com/event/holiday-13/
CATEGORIES:Holiday
ATTACH;FMTTYPE=image/jpeg:https://mlwgs.com/wp-content/uploads/2024/07/mag-default-image.jpg
END:VEVENT
BEGIN:VEVENT
DTSTART;TZID=America/New_York:20260619T080000
DTEND;TZID=America/New_York:20260619T170000
DTSTAMP:20260419T093426
CREATED:20250603T133320Z
LAST-MODIFIED:20250603T133320Z
UID:10005066-1781856000-1781888400@mlwgs.com
SUMMARY:School Closed
DESCRIPTION:
URL:https://mlwgs.com/event/school-closed-2/2026-06-19/
CATEGORIES:Closed
ATTACH;FMTTYPE=image/jpeg:https://mlwgs.com/wp-content/uploads/2024/07/mag-default-image.jpg
END:VEVENT
BEGIN:VEVENT
DTSTART;TZID=America/New_York:20260620T000000
DTEND;TZID=America/New_York:20260701T235959
DTSTAMP:20260419T093426
CREATED:20250423T140715Z
LAST-MODIFIED:20250423T140715Z
UID:10004459-1781913600-1782950399@mlwgs.com
SUMMARY:Mr. Brown's England/France/Belgium/Germany (Off Campus)
DESCRIPTION:WWII and the Western Front
URL:https://mlwgs.com/event/mr-browns-england-france-belgium-germany-off-campus/
CATEGORIES:International Travel
ATTACH;FMTTYPE=image/jpeg:https://mlwgs.com/wp-content/uploads/2024/07/mag-default-image.jpg
END:VEVENT
END:VCALENDAR